BEGIN:VCALENDAR
VERSION:2.0
PRODID:icalendar-ruby
CALSCALE:GREGORIAN
METHOD:PUBLISH
BEGIN:VEVENT
DTSTAMP:20260423T195111Z
UID:241-452167@trcwv.com
DTSTART:20260429T223000Z
DTEND:20260430T000000Z
CLASS:PUBLIC
CREATED:20260421T183715
DESCRIPTION:Mandy Nesbitt is wrapping up her Armour of God class tonight! C
 ome join this interactive\, fun\, and always eventful class as we gather t
 ogether. You don't want to miss what she has in store! 
LAST-MODIFIED:20260421T183715
LOCATION:TRC 
SUMMARY:Midweek Momentum 
URL;VALUE=URI:https://www.trcwv.com/events/midweek-momentum/2026-04-29
ATTACH;FILENAME=Copy-of-midweek.png;FMTTYPE=image/png:https://dq5pwpg1q8ru0
 .cloudfront.net/2026/04/21/22/37/15/88bbdd01-38c4-4601-b2a5-edfcca3930f5/C
 opy-of-midweek.png
END:VEVENT
END:VCALENDAR
